BEGIN:VCALENDAR
VERSION:2.0
PRODID:-//Sol Aura - ECPv6.2.6//NONSGML v1.0//EN
CALSCALE:GREGORIAN
METHOD:PUBLISH
X-ORIGINAL-URL:https://www.solaura.com.uy
X-WR-CALDESC:Eventos para Sol Aura
REFRESH-INTERVAL;VALUE=DURATION:PT1H
X-Robots-Tag:noindex
X-PUBLISHED-TTL:PT1H
BEGIN:VTIMEZONE
TZID:America/Sao_Paulo
BEGIN:STANDARD
TZOFFSETFROM:-0300
TZOFFSETTO:-0300
TZNAME:-03
DTSTART:20240101T000000
END:STANDARD
END:VTIMEZONE
BEGIN:VEVENT
DTSTART;TZID=America/Sao_Paulo:20240808T140000
DTEND;TZID=America/Sao_Paulo:20241121T163000
DTSTAMP:20260424T224451
CREATED:20240714T004217Z
LAST-MODIFIED:20250105T004837Z
UID:5526-1723125600-1732206600@www.solaura.com.uy
SUMMARY:Curso Tarot de Marsella - Agosto 2024
DESCRIPTION:¡Empieza en agosto 2024 el curso de Tarot de Marsella!\nNuestro Curso de Tarot de Marsella está dirigido a quienes deseen explorar esta herramienta de autoconocimiento para acompañar su camino personal o el de otros. \nA lo largo de cuatro meses\, de agosto a noviembre\, aprenderemos Arcanos Mayores\, Menores y múltiples tiradas (ejercitamos mucho desde el primer encuentro!). \nLeer el Tarot es abrirse al infinito\, a la esencia universal; no tiene tiempo ni dueño\, pertenece a la humanidad.\nNo hay requisitos para inscribirse ¡sólo sentir el llamado! \nAl finalizar el Curso de Tarot de Marsella 2024 podrás:\n\nManejar el sistema numérico y simbólico del Tarot de Marsella\nRealizar tiradas y consultas personales y grupales\nIntegrar una herramienta guía para el día a día en tu camino o el de las personas que acompañes\n\nCONTENIDO\n\nEstructura y numerología del Tarot\nEl Tarot como mandala\nLos cuatros palos asociados a las funciones junguianas\nArcanos Menores\nArcanos Mayores\nLa lectura del Tarot\, individual y grupal\n\nHORARIOS\nMODALIDAD: online\n(online en vivo vía ZOOM que quedan grabados para que los vuelvas a ver) \nFRECUENCIA: quincenal \nDÍAS: 2° y 4° jueves de cada mes \nHORARIOS: de 18.30 a 20.30 hs \nDURACIÓN: agosto a noviembre \n  \nCAMPUS VIRTUAL DE LA ESCUELA\nCada estudiante del curso cuenta con un usuario en el Campus Virtual de la Escuela Sol Aura donde acceden a materiales didácticos\, videos y clases grabadas. \nEn www.escuela.solaura.com.uy se ingresa con usuario y contraseña la cual se envía vía mail con el alta de cursada. \n  \nINSCRIPCIONES\nLas inscripciones al Curso de Tarot de Marsella se realizan hasta el 1ero de agosto. \nSe realiza vía correo electrónico a hola@solaura.com.uy quedando efectivizada y reservado el cupo una vez se abone la primera cuota. \n  \nPAGOS\nCurso completo: $10000 (pesos Uy) / 250 dólares. \nPago en cuatro cuotas de $uy 3000 o 75 dólares cada una. \n  \nDentro de Uruguay se puede abonar por transferencia o giro. \nDesde el resto del mundo los pagos se realizan a través de PayPal o giro internacional.. \n  \nEscríbenos para más información a:\nhola@solaura.com.uy / +598 91613667 / +598 99842810 \n  \n¡Sos bienvenidx! \nLa Escuela Sol Aura te recibe y acompaña. \n  \n  \nSi quieres conocer el enfoque de la Escuela te recomendamos ver nuestro canal de YouTube. \nPuedes consultar otras ofertas académicas en la página del Centro de Formaciòn. \n\n\n\n\n\n\n\n\n\n \n \n \n \nElige un área de interés \nAstrologíaPlantas MedicinalesTarotOtra
URL:https://www.solaura.com.uy/evento/curso-tarot-de-marsella-agosto-2024/
LOCATION:Canelones
CATEGORIES:Actividades,Cursos,Online,Tarot,Tarot,Tarot
ATTACH;FMTTYPE=image/png:https://www.solaura.com.uy/wp-content/uploads/2024/07/post-1-unica.png
END:VEVENT
END:VCALENDAR