BEGIN:VCALENDAR
VERSION:2.0
PRODID:-//Sol Aura - ECPv6.2.6//NONSGML v1.0//EN
CALSCALE:GREGORIAN
METHOD:PUBLISH
X-ORIGINAL-URL:https://www.solaura.com.uy
X-WR-CALDESC:Eventos para Sol Aura
REFRESH-INTERVAL;VALUE=DURATION:PT1H
X-Robots-Tag:noindex
X-PUBLISHED-TTL:PT1H
BEGIN:VTIMEZONE
TZID:America/Sao_Paulo
BEGIN:STANDARD
TZOFFSETFROM:-0300
TZOFFSETTO:-0300
TZNAME:-03
DTSTART:20260101T000000
END:STANDARD
END:VTIMEZONE
BEGIN:VEVENT
DTSTART;VALUE=DATE:20260204
DTEND;VALUE=DATE:20270221
DTSTAMP:20260419T193027
CREATED:20251111T011132Z
LAST-MODIFIED:20260205T023740Z
UID:5698-1770163200-1803167999@www.solaura.com.uy
SUMMARY:Tarot de Marsella - 2026
DESCRIPTION:Tarot de Marsella 2026\n¡Abrimos las inscripciones al Curso de Tarot de Marsella 2026 con descuentos y regalos!\n  \nDurante cuatro meses\, explorando el Tarot de Marsella ¿te sumas? \n\n Clases en VIVO con mucha práctica + videos grabados para asentar la teoría.\n Modalidad: presencial y virtual.\n Cupos limitados.\n\n  \nNuestro curso de Tarot está dirigido a quienes deseen explorar esta herramienta de autoconocimiento para acompañar su camino personal o el de otros. \nA lo largo de cuatro meses aprenderemos Arcanos Mayores\, Menores y múltiples tiradas. Ejercitamos mucho desde el primer encuentro 😉 \nNuestro enfoque es terapéutico y evolutivo. \n  \nEnseñamos con un ritmo amable y vivencial\, propiciamos el diálogo\, el intercambio\, la experiencia en comunidad y la conexión con un entorno que inspira calma. \n  \nLeer el Tarot es abrirse al infinito\, a la esencia universal; no tiene tiempo ni dueño\, pertenece a la humanidad. \n  \n⚡️No hay requisitos para inscribirse ¡sólo sentir el llamado! \n  \n🌷 Al finalizar el curso de Tarot de Marsella podrás:\n○ Manejar el sistema numérico y simbólico del Tarot de Marsella.\n● Realizar tiradas y consultas personales y grupales.\n○ Integrar una herramienta guía para el día a día en tu camino o el de las personas que acompañes. \n¡Si te inscribes ANTES del 20 de febrero tienes BONUS regalos!\n\n\n\n\n\nBONUS 1: la grabación del WORKSHOP VISIÓN ANUAL ESTELAR para desplegar el 2026 en resonancia con el cielo junto con la Guía de tránsitos. ¡Casi 6 horas de clase que te van a acompañar todo el año y que vas a poder volver a ver todas las veces que quieras! \nBONUS 2: el acceso de por vida a la Masterclass grabada “Tarot y Astrología” brindada por Lau.\nBONUS 3: JAM de Tarot de octubre 2026 totalmente bonificada.\n\n\n\n\n\n  \n¡Es ahora! Reserva tu lugar. \n  \n🔸Inicio: 21 de marzo 2026.\n🔹Modalidad: presencial y virtual\n🔸Clases en vivo (que además quedan grabadas) + material teórico grabado \n🔹Días de cursada: 1° y 3° sábado de cada mes\n🔸Duración: de marzo a julio 2026. \n  \nSomos una guía y ofrecemos un método que te contiene en tu proceso de transformación.\n  \nNuestras clases son grupales con cupos reducidos dictadas desde Marindia\, un balneario de la costa balnearia de Uruguay. Estamos muy cerca del mar\, rodeados de árboles y animales silvestres.  \nPuedes participar desde donde quieras o puedas\, pero seguro vas a recibir un aprendizaje enraizado en la naturaleza\, en conexión con la tierra. \n \nLa Escuela Sol Aura te recibe y acompaña. \n  \n⚡Te respondemos dudas y más info por mail o WSP:\nhola@solaura.com.uy / +598 99765432 / +598 99842810 \n  \nSi quieres conocer el enfoque de la Escuela te recomendamos ver nuestro canal de YouTube. \nPuedes consultar otras ofertas académicas en la página del Centro de Formaciòn.
URL:https://www.solaura.com.uy/evento/tarot-de-marsella-2026/
LOCATION:Marindia\, Canelones\, Uruguay\, Marindia\, Canelones\, Uruguay
CATEGORIES:Abiertos,Actividades,Cursos,Online,Tarot,Tarot,Tarot
ATTACH;FMTTYPE=image/png:https://www.solaura.com.uy/wp-content/uploads/2025/11/Formacion-Tarot-2026-post-01-.png
ORGANIZER;CN="Escuela Sol Aura":MAILTO:info@solaura.com.uy
END:VEVENT
END:VCALENDAR